Package: GEOsubmission Version: 1.60.0 Command: /Library/Frameworks/R.framework/Resources/bin/R CMD build --keep-empty-dirs --no-resave-data GEOsubmission StartedAt: 2025-09-26 01:03:01 -0400 (Fri, 26 Sep 2025) EndedAt: 2025-09-26 01:03:14 -0400 (Fri, 26 Sep 2025) EllapsedTime: 12.5 seconds RetCode: 0 Status: OK PackageFile: GEOsubmission_1.60.0.tar.gz PackageFileSize: 192.6 KiB