Package: GEOquery Version: 2.78.0 Command: /home/biocbuild/R/R/bin/R CMD INSTALL GEOquery StartedAt: 2025-11-13 21:41:35 -0000 (Thu, 13 Nov 2025) EndedAt: 2025-11-13 21:42:08 -0000 (Thu, 13 Nov 2025) EllapsedTime: 33.3 seconds RetCode: 0 Status: OK