Package: GEOquery Version: 2.78.0 Command: /home/biocbuild/R/R/bin/R CMD build --keep-empty-dirs --no-resave-data GEOquery StartedAt: 2025-11-14 02:07:12 -0000 (Fri, 14 Nov 2025) EndedAt: 2025-11-14 02:07:15 -0000 (Fri, 14 Nov 2025) EllapsedTime: 3.0 seconds RetCode: 0 Status: OK PackageFile: GEOquery_2.78.0.tar.gz PackageFileSize: 12.83 MiB