Package: GEOquery Version: 2.78.0 Command: /home/biocbuild/bbs-3.22-bioc/R/bin/R CMD check --install=check:GEOquery.install-out.txt --library=/home/biocbuild/bbs-3.22-bioc/R/site-library --timings GEOquery_2.78.0.tar.gz StartedAt: 2025-11-12 00:05:01 -0500 (Wed, 12 Nov 2025) EndedAt: 2025-11-12 00:09:40 -0500 (Wed, 12 Nov 2025) EllapsedTime: 279.3 seconds RetCode: 0 Status: WARNINGS CheckDir: GEOquery.Rcheck Warnings: 1