Package: GEOquery Version: 2.76.0 Command: /Library/Frameworks/R.framework/Resources/bin/R CMD INSTALL GEOquery StartedAt: 2025-10-13 16:00:17 -0400 (Mon, 13 Oct 2025) EndedAt: 2025-10-13 16:01:13 -0400 (Mon, 13 Oct 2025) EllapsedTime: 55.9 seconds RetCode: 0 Status: OK