Package: GEOquery Version: 2.76.0 Command: rm -rf GEOquery.buildbin-libdir && mkdir GEOquery.buildbin-libdir && /Users/biocbuild/BBS/utils/build-universal.sh GEOquery_2.76.0.tar.gz /Library/Frameworks/R.framework/Resources/bin/R GEOquery.buildbin-libdir StartedAt: 2025-10-14 13:35:14 -0400 (Tue, 14 Oct 2025) EndedAt: 2025-10-14 13:36:45 -0400 (Tue, 14 Oct 2025) EllapsedTime: 90.6 seconds RetCode: 0 Status: OK PackageFile: GEOquery_2.76.0.tgz PackageFileSize: 13.37 MiB