Package: GEOmetadb Version: 1.72.0 Command: /home/biocbuild/bbs-3.22-bioc/R/bin/R CMD build --keep-empty-dirs --no-resave-data --md5 GEOmetadb StartedAt: 2025-11-11 17:54:21 -0500 (Tue, 11 Nov 2025) EndedAt: 2025-11-11 17:57:50 -0500 (Tue, 11 Nov 2025) EllapsedTime: 209.2 seconds RetCode: 1 Status: ERROR PackageFile: None PackageFileSize: NA