Package: GEOmetadb Version: 1.70.0 Command: /home/biocbuild/R/R/bin/R CMD INSTALL GEOmetadb StartedAt: 2025-10-02 20:15:27 -0000 (Thu, 02 Oct 2025) EndedAt: 2025-10-02 20:15:45 -0000 (Thu, 02 Oct 2025) EllapsedTime: 18.2 seconds RetCode: 0 Status: OK