Package: GEOmetadb Version: 1.70.0 Command: /home/biocbuild/R/R/bin/R CMD build --keep-empty-dirs --no-resave-data GEOmetadb StartedAt: 2025-10-03 01:13:58 -0000 (Fri, 03 Oct 2025) EndedAt: 2025-10-03 01:23:11 -0000 (Fri, 03 Oct 2025) EllapsedTime: 553.2 seconds RetCode: 1 Status: ERROR PackageFile: None PackageFileSize: NA