Package: GEOmetadb Version: 1.70.0 Command: /Library/Frameworks/R.framework/Resources/bin/R CMD INSTALL GEOmetadb StartedAt: 2025-10-13 15:13:29 -0400 (Mon, 13 Oct 2025) EndedAt: 2025-10-13 15:13:35 -0400 (Mon, 13 Oct 2025) EllapsedTime: 6.5 seconds RetCode: 0 Status: OK