Package: GEOmetadb Version: 1.70.0 Command: /Library/Frameworks/R.framework/Resources/bin/R CMD build --keep-empty-dirs --no-resave-data GEOmetadb StartedAt: 2025-10-14 01:06:44 -0400 (Tue, 14 Oct 2025) EndedAt: 2025-10-14 01:07:01 -0400 (Tue, 14 Oct 2025) EllapsedTime: 17.1 seconds RetCode: 0 Status: OK PackageFile: GEOmetadb_1.70.0.tar.gz PackageFileSize: 617.8 KiB