Package: GEOfastq Version: 1.18.0 Command: /home/biocbuild/bbs-3.22-bioc/R/bin/R CMD INSTALL GEOfastq StartedAt: 2025-11-11 15:10:40 -0500 (Tue, 11 Nov 2025) EndedAt: 2025-11-11 15:11:16 -0500 (Tue, 11 Nov 2025) EllapsedTime: 35.9 seconds RetCode: 0 Status: OK