Package: GEOfastq Version: 1.18.0 Command: /home/biocbuild/bbs-3.22-bioc/R/bin/R CMD build --keep-empty-dirs --no-resave-data --md5 GEOfastq StartedAt: 2025-11-11 17:54:19 -0500 (Tue, 11 Nov 2025) EndedAt: 2025-11-11 18:04:46 -0500 (Tue, 11 Nov 2025) EllapsedTime: 627.6 seconds RetCode: 0 Status: OK PackageFile: GEOfastq_1.18.0.tar.gz PackageFileSize: 14.04 KiB