Package: GEOfastq Version: 1.16.0 Command: /home/biocbuild/R/R/bin/R CMD INSTALL GEOfastq StartedAt: 2025-10-09 20:17:58 -0000 (Thu, 09 Oct 2025) EndedAt: 2025-10-09 20:18:56 -0000 (Thu, 09 Oct 2025) EllapsedTime: 58.4 seconds RetCode: 0 Status: OK