Package: GENIE3 Version: 1.32.0 Command: /home/biocbuild/bbs-3.22-bioc/R/bin/R CMD INSTALL GENIE3 StartedAt: 2025-11-11 15:13:01 -0500 (Tue, 11 Nov 2025) EndedAt: 2025-11-11 15:13:07 -0500 (Tue, 11 Nov 2025) EllapsedTime: 6.8 seconds RetCode: 0 Status: OK