Package: GENESIS Version: 2.40.0 Command: /home/biocbuild/bbs-3.22-bioc/R/bin/R CMD INSTALL GENESIS StartedAt: 2025-11-11 15:28:03 -0500 (Tue, 11 Nov 2025) EndedAt: 2025-11-11 15:28:29 -0500 (Tue, 11 Nov 2025) EllapsedTime: 25.3 seconds RetCode: 0 Status: OK