Package: GENESIS Version: 2.40.0 Command: /Library/Frameworks/R.framework/Resources/bin/R CMD INSTALL GENESIS StartedAt: 2025-11-10 15:14:57 -0500 (Mon, 10 Nov 2025) EndedAt: 2025-11-10 15:15:07 -0500 (Mon, 10 Nov 2025) EllapsedTime: 10.6 seconds RetCode: 0 Status: OK