Package: GENESIS Version: 2.40.0 Command: rm -rf GENESIS.buildbin-libdir && mkdir GENESIS.buildbin-libdir && /Users/biocbuild/BBS/utils/build-universal.sh GENESIS_2.40.0.tar.gz /Library/Frameworks/R.framework/Resources/bin/R GENESIS.buildbin-libdir StartedAt: 2025-11-10 23:21:17 -0500 (Mon, 10 Nov 2025) EndedAt: 2025-11-10 23:21:29 -0500 (Mon, 10 Nov 2025) EllapsedTime: 12.3 seconds RetCode: 0 Status: OK PackageFile: GENESIS_2.40.0.tgz PackageFileSize: 4.135 MiB