Package: GEM Version: 1.36.0 Command: /Library/Frameworks/R.framework/Resources/bin/R CMD build --keep-empty-dirs --no-resave-data GEM StartedAt: 2025-11-10 16:28:28 -0500 (Mon, 10 Nov 2025) EndedAt: 2025-11-10 16:28:36 -0500 (Mon, 10 Nov 2025) EllapsedTime: 8.1 seconds RetCode: 0 Status: OK PackageFile: GEM_1.36.0.tar.gz PackageFileSize: 689.6 KiB