Package: GEM Version: 1.36.0 Command: rm -rf GEM.buildbin-libdir && mkdir GEM.buildbin-libdir && /Users/biocbuild/BBS/utils/build-universal.sh GEM_1.36.0.tar.gz /Library/Frameworks/R.framework/Resources/bin/R GEM.buildbin-libdir StartedAt: 2025-11-10 23:21:05 -0500 (Mon, 10 Nov 2025) EndedAt: 2025-11-10 23:21:10 -0500 (Mon, 10 Nov 2025) EllapsedTime: 5.1 seconds RetCode: 0 Status: OK PackageFile: GEM_1.36.0.tgz PackageFileSize: 898.7 KiB