Package: GDSArray Version: 1.30.0 Command: /home/biocbuild/R/R/bin/R CMD build --keep-empty-dirs --no-resave-data GDSArray StartedAt: 2025-11-11 01:51:35 -0000 (Tue, 11 Nov 2025) EndedAt: 2025-11-11 01:52:11 -0000 (Tue, 11 Nov 2025) EllapsedTime: 36.0 seconds RetCode: 0 Status: OK PackageFile: GDSArray_1.30.0.tar.gz PackageFileSize: 372 KiB