Package: GDSArray Version: 1.30.0 Command: /home/biocbuild/bbs-3.22-bioc/R/bin/R CMD INSTALL GDSArray StartedAt: 2025-11-11 15:28:43 -0500 (Tue, 11 Nov 2025) EndedAt: 2025-11-11 15:29:01 -0500 (Tue, 11 Nov 2025) EllapsedTime: 17.5 seconds RetCode: 0 Status: OK