Package: GDSArray Version: 1.30.0 Command: /home/biocbuild/bbs-3.22-bioc/R/bin/R CMD check --install=check:GDSArray.install-out.txt --library=/home/biocbuild/bbs-3.22-bioc/R/site-library --timings GDSArray_1.30.0.tar.gz StartedAt: 2025-11-11 23:53:33 -0500 (Tue, 11 Nov 2025) EndedAt: 2025-11-11 23:55:42 -0500 (Tue, 11 Nov 2025) EllapsedTime: 129.1 seconds RetCode: 0 Status: OK CheckDir: GDSArray.Rcheck Warnings: 0