Package: GDCRNATools Version: 1.30.0 Command: /home/biocbuild/bbs-3.22-bioc/R/bin/R CMD INSTALL GDCRNATools StartedAt: 2025-11-11 15:53:14 -0500 (Tue, 11 Nov 2025) EndedAt: 2025-11-11 15:54:13 -0500 (Tue, 11 Nov 2025) EllapsedTime: 59.6 seconds RetCode: 0 Status: OK