Package: GDCRNATools Version: 1.30.0 Command: /Library/Frameworks/R.framework/Resources/bin/R CMD INSTALL GDCRNATools StartedAt: 2025-11-03 15:48:57 -0500 (Mon, 03 Nov 2025) EndedAt: 2025-11-03 15:50:16 -0500 (Mon, 03 Nov 2025) EllapsedTime: 79.0 seconds RetCode: 0 Status: OK