Package: GDCRNATools Version: 1.30.0 Command: /Library/Frameworks/R.framework/Resources/bin/R CMD build --keep-empty-dirs --no-resave-data GDCRNATools StartedAt: 2025-11-03 17:06:14 -0500 (Mon, 03 Nov 2025) EndedAt: 2025-11-03 17:07:25 -0500 (Mon, 03 Nov 2025) EllapsedTime: 71.0 seconds RetCode: 0 Status: OK PackageFile: GDCRNATools_1.30.0.tar.gz PackageFileSize: 5.314 MiB