Package: GDCRNATools Version: 1.28.0 Command: /home/biocbuild/R/R/bin/R CMD INSTALL GDCRNATools StartedAt: 2025-10-13 21:09:37 -0000 (Mon, 13 Oct 2025) EndedAt: 2025-10-13 21:10:56 -0000 (Mon, 13 Oct 2025) EllapsedTime: 79.3 seconds RetCode: 0 Status: OK