Package: GDCRNATools Version: 1.28.0 Command: /home/biocbuild/R/R/bin/R CMD build --keep-empty-dirs --no-resave-data GDCRNATools StartedAt: 2025-10-14 01:00:44 -0000 (Tue, 14 Oct 2025) EndedAt: 2025-10-14 01:02:03 -0000 (Tue, 14 Oct 2025) EllapsedTime: 79.0 seconds RetCode: 0 Status: OK PackageFile: GDCRNATools_1.28.0.tar.gz PackageFileSize: 5.316 MiB