Package: GBScleanR Version: 2.4.0 Command: /Library/Frameworks/R.framework/Resources/bin/R CMD INSTALL GBScleanR StartedAt: 2025-11-03 15:34:03 -0500 (Mon, 03 Nov 2025) EndedAt: 2025-11-03 15:34:58 -0500 (Mon, 03 Nov 2025) EllapsedTime: 55.1 seconds RetCode: 0 Status: OK