Package: GBScleanR Version: 2.2.0 Command: /home/biocbuild/R/R/bin/R CMD INSTALL GBScleanR StartedAt: 2025-10-13 20:46:49 -0000 (Mon, 13 Oct 2025) EndedAt: 2025-10-13 20:48:07 -0000 (Mon, 13 Oct 2025) EllapsedTime: 78.0 seconds RetCode: 0 Status: OK