Package: GBScleanR Version: 2.2.0 Command: /home/biocbuild/R/R/bin/R CMD build --keep-empty-dirs --no-resave-data GBScleanR StartedAt: 2025-10-14 01:00:03 -0000 (Tue, 14 Oct 2025) EndedAt: 2025-10-14 01:02:13 -0000 (Tue, 14 Oct 2025) EllapsedTime: 130.0 seconds RetCode: 1 Status: ERROR PackageFile: None PackageFileSize: NA