Package: GBScleanR Version: 2.2.0 Command: /Library/Frameworks/R.framework/Resources/bin/R CMD build --keep-empty-dirs --no-resave-data GBScleanR StartedAt: 2025-04-21 16:23:29 -0400 (Mon, 21 Apr 2025) EndedAt: 2025-04-21 16:24:05 -0400 (Mon, 21 Apr 2025) EllapsedTime: 36.4 seconds RetCode: 0 Status: OK PackageFile: GBScleanR_2.2.0.tar.gz PackageFileSize: 2.237 MiB