Package: GAprediction Version: 1.36.0 Command: /home/biocbuild/bbs-3.22-bioc/R/bin/R CMD check --install=check:GAprediction.install-out.txt --library=/home/biocbuild/bbs-3.22-bioc/R/site-library --timings GAprediction_1.36.0.tar.gz StartedAt: 2025-11-14 23:54:27 -0500 (Fri, 14 Nov 2025) EndedAt: 2025-11-14 23:56:04 -0500 (Fri, 14 Nov 2025) EllapsedTime: 97.1 seconds RetCode: 0 Status: OK CheckDir: GAprediction.Rcheck Warnings: 0