Package: GAprediction Version: 1.36.0 Command: /home/biocbuild/bbs-3.22-bioc/R/bin/R CMD build --keep-empty-dirs --no-resave-data --md5 GAprediction StartedAt: 2025-11-11 17:47:22 -0500 (Tue, 11 Nov 2025) EndedAt: 2025-11-11 17:47:58 -0500 (Tue, 11 Nov 2025) EllapsedTime: 36.0 seconds RetCode: 0 Status: OK PackageFile: GAprediction_1.36.0.tar.gz PackageFileSize: 1.807 MiB