Package: GAprediction Version: 1.36.0 Command: /Library/Frameworks/R.framework/Resources/bin/R CMD INSTALL GAprediction StartedAt: 2025-11-03 15:12:40 -0500 (Mon, 03 Nov 2025) EndedAt: 2025-11-03 15:13:40 -0500 (Mon, 03 Nov 2025) EllapsedTime: 60.3 seconds RetCode: 0 Status: OK