Package: GAprediction Version: 1.36.0 Command: /Library/Frameworks/R.framework/Resources/bin/R CMD build --keep-empty-dirs --no-resave-data GAprediction StartedAt: 2025-11-03 17:05:27 -0500 (Mon, 03 Nov 2025) EndedAt: 2025-11-03 17:06:14 -0500 (Mon, 03 Nov 2025) EllapsedTime: 46.8 seconds RetCode: 0 Status: OK PackageFile: GAprediction_1.36.0.tar.gz PackageFileSize: 1.806 MiB