Package: GAprediction Version: 1.36.0 Command: rm -rf GAprediction.buildbin-libdir && mkdir GAprediction.buildbin-libdir && /Users/biocbuild/BBS/utils/build-universal.sh GAprediction_1.36.0.tar.gz /Library/Frameworks/R.framework/Resources/bin/R GAprediction.buildbin-libdir StartedAt: 2025-11-04 01:41:02 -0500 (Tue, 04 Nov 2025) EndedAt: 2025-11-04 01:41:20 -0500 (Tue, 04 Nov 2025) EllapsedTime: 18.5 seconds RetCode: 0 Status: OK PackageFile: GAprediction_1.36.0.tgz PackageFileSize: 885 KiB