Package: GAprediction Version: 1.34.0 Command: /home/biocbuild/R/R/bin/R CMD INSTALL GAprediction StartedAt: 2025-10-13 20:16:34 -0000 (Mon, 13 Oct 2025) EndedAt: 2025-10-13 20:17:06 -0000 (Mon, 13 Oct 2025) EllapsedTime: 32.5 seconds RetCode: 0 Status: OK