Package: GARS Version: 1.28.0 Command: /home/biocbuild/R/R/bin/R CMD build --keep-empty-dirs --no-resave-data GARS StartedAt: 2025-10-14 00:59:37 -0000 (Tue, 14 Oct 2025) EndedAt: 2025-10-14 01:02:19 -0000 (Tue, 14 Oct 2025) EllapsedTime: 162.1 seconds RetCode: 0 Status: OK PackageFile: GARS_1.28.0.tar.gz PackageFileSize: 429.2 KiB