Package: GARS Version: 1.30.0 Command: /Library/Frameworks/R.framework/Resources/bin/R CMD build --keep-empty-dirs --no-resave-data GARS StartedAt: 2025-11-02 16:26:53 -0500 (Sun, 02 Nov 2025) EndedAt: 2025-11-02 16:27:41 -0500 (Sun, 02 Nov 2025) EllapsedTime: 48.5 seconds RetCode: 0 Status: OK PackageFile: GARS_1.30.0.tar.gz PackageFileSize: 438.2 KiB