Package: GARS Version: 1.30.0 Command: rm -rf GARS.buildbin-libdir && mkdir GARS.buildbin-libdir && /Users/biocbuild/BBS/utils/build-universal.sh GARS_1.30.0.tar.gz /Library/Frameworks/R.framework/Resources/bin/R GARS.buildbin-libdir StartedAt: 2025-11-02 23:05:27 -0500 (Sun, 02 Nov 2025) EndedAt: 2025-11-02 23:05:58 -0500 (Sun, 02 Nov 2025) EllapsedTime: 30.5 seconds RetCode: 0 Status: OK PackageFile: GARS_1.30.0.tgz PackageFileSize: 501.5 KiB