Package: GA4GHshiny Version: 1.32.0 Command: /home/biocbuild/R/R/bin/R CMD INSTALL GA4GHshiny StartedAt: 2025-11-13 21:52:55 -0000 (Thu, 13 Nov 2025) EndedAt: 2025-11-13 21:53:47 -0000 (Thu, 13 Nov 2025) EllapsedTime: 52.0 seconds RetCode: 0 Status: OK