Package: GA4GHshiny Version: 1.32.0 Command: /home/biocbuild/R/R/bin/R CMD build --keep-empty-dirs --no-resave-data GA4GHshiny StartedAt: 2025-11-14 01:56:01 -0000 (Fri, 14 Nov 2025) EndedAt: 2025-11-14 01:56:56 -0000 (Fri, 14 Nov 2025) EllapsedTime: 55.0 seconds RetCode: 0 Status: OK PackageFile: GA4GHshiny_1.32.0.tar.gz PackageFileSize: 365.1 KiB