Package: GA4GHshiny Version: 1.32.0 Command: /home/biocbuild/bbs-3.22-bioc/R/bin/R CMD check --install=check:GA4GHshiny.install-out.txt --library=/home/biocbuild/bbs-3.22-bioc/R/site-library --timings GA4GHshiny_1.32.0.tar.gz StartedAt: 2025-11-11 23:50:17 -0500 (Tue, 11 Nov 2025) EndedAt: 2025-11-11 23:54:53 -0500 (Tue, 11 Nov 2025) EllapsedTime: 276.3 seconds RetCode: 0 Status: OK CheckDir: GA4GHshiny.Rcheck Warnings: 0