Package: GA4GHshiny Version: 1.30.0 Command: /home/biocbuild/bbs-3.21-bioc/R/bin/R CMD INSTALL GA4GHshiny StartedAt: 2025-10-15 15:43:14 -0400 (Wed, 15 Oct 2025) EndedAt: 2025-10-15 15:43:54 -0400 (Wed, 15 Oct 2025) EllapsedTime: 39.6 seconds RetCode: 0 Status: OK