Package: GA4GHshiny Version: 1.30.0 Command: /Library/Frameworks/R.framework/Resources/bin/R CMD INSTALL GA4GHshiny StartedAt: 2025-10-13 17:30:25 -0400 (Mon, 13 Oct 2025) EndedAt: 2025-10-13 17:31:13 -0400 (Mon, 13 Oct 2025) EllapsedTime: 47.9 seconds RetCode: 0 Status: OK