Package: GA4GHshiny Version: 1.30.0 Command: /Library/Frameworks/R.framework/Resources/bin/R CMD build --keep-empty-dirs --no-resave-data GA4GHshiny StartedAt: 2025-10-14 00:40:33 -0400 (Tue, 14 Oct 2025) EndedAt: 2025-10-14 00:41:25 -0400 (Tue, 14 Oct 2025) EllapsedTime: 52.6 seconds RetCode: 0 Status: OK PackageFile: GA4GHshiny_1.30.0.tar.gz PackageFileSize: 298.7 KiB