Package: GA4GHshiny Version: 1.30.0 Command: rm -rf GA4GHshiny.buildbin-libdir && mkdir GA4GHshiny.buildbin-libdir && /Users/biocbuild/BBS/utils/build-universal.sh GA4GHshiny_1.30.0.tar.gz /Library/Frameworks/R.framework/Resources/bin/R GA4GHshiny.buildbin-libdir StartedAt: 2025-10-15 18:34:11 -0400 (Wed, 15 Oct 2025) EndedAt: 2025-10-15 18:35:03 -0400 (Wed, 15 Oct 2025) EllapsedTime: 52.0 seconds RetCode: 0 Status: OK PackageFile: GA4GHshiny_1.30.0.tgz PackageFileSize: 476.8 KiB