Package: GA4GHshiny Version: 1.32.0 Maintainer: Welliton Souza MaintainerEmail: well309 at gmail.com git_url: https://git.bioconductor.org/packages/GA4GHshiny git_branch: RELEASE_3_22 git_last_commit: 8463ac1 git_last_commit_date: 2025-10-29 10:38:44 -0400 (Wed, 29 Oct 2025)