Package: GA4GHclient Version: 1.34.0 Command: /home/biocbuild/R/R/bin/R CMD INSTALL GA4GHclient StartedAt: 2025-11-10 21:52:29 -0000 (Mon, 10 Nov 2025) EndedAt: 2025-11-10 21:53:20 -0000 (Mon, 10 Nov 2025) EllapsedTime: 50.8 seconds RetCode: 0 Status: OK